BEGIN:VCALENDAR
VERSION:2.0
PRODID:-//MoonLite Dance Studio - ECPv6.3.5//NONSGML v1.0//EN
CALSCALE:GREGORIAN
METHOD:PUBLISH
X-ORIGINAL-URL:http://moonlitedance.com
X-WR-CALDESC:Events for MoonLite Dance Studio
REFRESH-INTERVAL;VALUE=DURATION:PT1H
X-Robots-Tag:noindex
X-PUBLISHED-TTL:PT1H
BEGIN:VTIMEZONE
TZID:UTC
BEGIN:STANDARD
TZOFFSETFROM:+0000
TZOFFSETTO:+0000
TZNAME:UTC
DTSTART:20250101T000000
END:STANDARD
END:VTIMEZONE
BEGIN:VEVENT
DTSTART;VALUE=DATE:20251117
DTEND;VALUE=DATE:20251122
DTSTAMP:20260422T081053
CREATED:20240609T201335Z
LAST-MODIFIED:20250721T060759Z
UID:2880-1763337600-1763769599@moonlitedance.com
SUMMARY:Crazy Sock Week
DESCRIPTION:Come to dance and wear your craziest socks\, Please make sure you can either dance in them or put your shoes over them.
URL:http://moonlitedance.com/event/crazy-sock-week-2/
END:VEVENT
BEGIN:VEVENT
DTSTART;VALUE=DATE:20251124
DTEND;VALUE=DATE:20251129
DTSTAMP:20260422T081053
CREATED:20240609T201503Z
LAST-MODIFIED:20250721T055953Z
UID:2882-1763942400-1764374399@moonlitedance.com
SUMMARY:Thanksgiving Break no classes
DESCRIPTION:
URL:http://moonlitedance.com/event/thanksgiving-break-no-classes/
END:VEVENT
END:VCALENDAR