BEGIN:VCALENDAR
VERSION:2.0
PRODID:-//MoonLite Dance Studio - ECPv6.3.5//NONSGML v1.0//EN
CALSCALE:GREGORIAN
METHOD:PUBLISH
X-WR-CALNAME:MoonLite Dance Studio
X-ORIGINAL-URL:http://moonlitedance.com
X-WR-CALDESC:Events for MoonLite Dance Studio
REFRESH-INTERVAL;VALUE=DURATION:PT1H
X-Robots-Tag:noindex
X-PUBLISHED-TTL:PT1H
BEGIN:VTIMEZONE
TZID:UTC
BEGIN:STANDARD
TZOFFSETFROM:+0000
TZOFFSETTO:+0000
TZNAME:UTC
DTSTART:20230101T000000
END:STANDARD
END:VTIMEZONE
BEGIN:VEVENT
DTSTART;VALUE=DATE:20260413
DTEND;VALUE=DATE:20260418
DTSTAMP:20260422T055310
CREATED:20240609T204301Z
LAST-MODIFIED:20250721T060340Z
UID:2896-1776038400-1776470399@moonlitedance.com
SUMMARY:Show and Tell Week
DESCRIPTION:All students are welcome to bring one item to class to tell their teacher and classmates about in the first or last 15 minutes of class.
URL:http://moonlitedance.com/event/show-and-tell-week/
END:VEVENT
BEGIN:VEVENT
DTSTART;VALUE=DATE:20260316
DTEND;VALUE=DATE:20260321
DTSTAMP:20260422T055310
CREATED:20240609T203900Z
LAST-MODIFIED:20250721T054814Z
UID:2894-1773619200-1774051199@moonlitedance.com
SUMMARY:Spring Break no classes
DESCRIPTION:
URL:http://moonlitedance.com/event/spring-break-no-classes/
END:VEVENT
BEGIN:VEVENT
DTSTART;VALUE=DATE:20260309
DTEND;VALUE=DATE:20260314
DTSTAMP:20260422T055310
CREATED:20240609T203558Z
LAST-MODIFIED:20250721T061306Z
UID:2892-1773014400-1773446399@moonlitedance.com
SUMMARY:Bring a Friend week
DESCRIPTION:Students may bring a friend of their choice to their class FREE of charge.
URL:http://moonlitedance.com/event/bring-a-friend-week/
END:VEVENT
BEGIN:VEVENT
DTSTART;VALUE=DATE:20260209
DTEND;VALUE=DATE:20260214
DTSTAMP:20260422T055310
CREATED:20240609T203039Z
LAST-MODIFIED:20250721T061148Z
UID:2890-1770595200-1771027199@moonlitedance.com
SUMMARY:Sibling Week
DESCRIPTION:Students are welcome to bring their sibling to their classes\, They will be allowed to attend class with their sibling FREE of charge.
URL:http://moonlitedance.com/event/sibling-week/
END:VEVENT
BEGIN:VEVENT
DTSTART;VALUE=DATE:20260119
DTEND;VALUE=DATE:20260124
DTSTAMP:20260422T055310
CREATED:20240609T202705Z
LAST-MODIFIED:20250721T061025Z
UID:2888-1768780800-1769212799@moonlitedance.com
SUMMARY:Parent Viewing
DESCRIPTION:Parents are welcome to come into the class with their child to observe the class firsthand. Chairs will be lined up against the mirror for their conventions\, or you are welcome to dance along.
URL:http://moonlitedance.com/event/parent-viewing/
END:VEVENT
BEGIN:VEVENT
DTSTART;VALUE=DATE:20251222
DTEND;VALUE=DATE:20260106
DTSTAMP:20260422T055310
CREATED:20240609T201913Z
LAST-MODIFIED:20250721T055224Z
UID:2886-1766361600-1767657599@moonlitedance.com
SUMMARY:Christmas Break no Classes
DESCRIPTION:
URL:http://moonlitedance.com/event/christmas-break-no-classes/
END:VEVENT
BEGIN:VEVENT
DTSTART;VALUE=DATE:20251215
DTEND;VALUE=DATE:20251220
DTSTAMP:20260422T055310
CREATED:20240609T201702Z
LAST-MODIFIED:20250721T060906Z
UID:2884-1765756800-1766188799@moonlitedance.com
SUMMARY:Ugly Sweater Week
DESCRIPTION:Come to dance wearing your ugliest sweater\, please make sure you can still dance in it.
URL:http://moonlitedance.com/event/ugly-sweater-week-2/
END:VEVENT
BEGIN:VEVENT
DTSTART;VALUE=DATE:20251124
DTEND;VALUE=DATE:20251129
DTSTAMP:20260422T055310
CREATED:20240609T201503Z
LAST-MODIFIED:20250721T055953Z
UID:2882-1763942400-1764374399@moonlitedance.com
SUMMARY:Thanksgiving Break no classes
DESCRIPTION:
URL:http://moonlitedance.com/event/thanksgiving-break-no-classes/
END:VEVENT
BEGIN:VEVENT
DTSTART;VALUE=DATE:20251117
DTEND;VALUE=DATE:20251122
DTSTAMP:20260422T055310
CREATED:20240609T201335Z
LAST-MODIFIED:20250721T060759Z
UID:2880-1763337600-1763769599@moonlitedance.com
SUMMARY:Crazy Sock Week
DESCRIPTION:Come to dance and wear your craziest socks\, Please make sure you can either dance in them or put your shoes over them.
URL:http://moonlitedance.com/event/crazy-sock-week-2/
END:VEVENT
BEGIN:VEVENT
DTSTART;TZID=UTC:20251016T080000
DTEND;TZID=UTC:20251020T170000
DTSTAMP:20260422T055310
CREATED:20250721T062057Z
LAST-MODIFIED:20250721T062057Z
UID:2969-1760601600-1760979600@moonlitedance.com
SUMMARY:FALL BREAK NO DANCE.
DESCRIPTION:
URL:http://moonlitedance.com/event/fall-break-no-dance/
END:VEVENT
BEGIN:VEVENT
DTSTART;TZID=UTC:20251016T080000
DTEND;TZID=UTC:20251018T170000
DTSTAMP:20260422T055310
CREATED:20250721T100043Z
LAST-MODIFIED:20250721T062246Z
UID:2967-1760601600-1760806800@moonlitedance.com
SUMMARY:THE Hunted Maze
DESCRIPTION:
URL:http://moonlitedance.com/event/hunted-maze/
END:VEVENT
BEGIN:VEVENT
DTSTART;VALUE=DATE:20250901
DTEND;VALUE=DATE:20250902
DTSTAMP:20260422T055310
CREATED:20240609T204351Z
LAST-MODIFIED:20250721T054609Z
UID:2899-1756684800-1756771199@moonlitedance.com
SUMMARY:Labor Day\, No Classes
DESCRIPTION:
URL:http://moonlitedance.com/event/memorial-day-no-classes/
END:VEVENT
BEGIN:VEVENT
DTSTART;VALUE=DATE:20250621
DTEND;VALUE=DATE:20250722
DTSTAMP:20260422T055310
CREATED:20250721T060637Z
LAST-MODIFIED:20250721T060637Z
UID:2962-1750464000-1753142399@moonlitedance.com
SUMMARY:Moonlite Dancing through the decades
DESCRIPTION:
URL:http://moonlitedance.com/event/moonlite-dancing-through-the-decades/
END:VEVENT
BEGIN:VEVENT
DTSTART;TZID=UTC:20240615T163000
DTEND;TZID=UTC:20240615T170000
DTSTAMP:20260422T055310
CREATED:20240121T214800Z
LAST-MODIFIED:20240121T214935Z
UID:2532-1718469000-1718470800@moonlitedance.com
SUMMARY:Moonlite Spring Show “Through the Memories”
DESCRIPTION:
URL:http://moonlitedance.com/event/moonlite-spring-show-through-the-memories/
LOCATION:avra center in pryor
END:VEVENT
BEGIN:VEVENT
DTSTART;TZID=UTC:20231215T174500
DTEND;TZID=UTC:20231215T190000
DTSTAMP:20260422T055310
CREATED:20231101T034732Z
LAST-MODIFIED:20231101T043532Z
UID:2468-1702662300-1702666800@moonlitedance.com
SUMMARY:Santa is Coming Tutu Town
DESCRIPTION:Monday & Fridays 3/4 are in Red.\nTuesday & Wednesday 5/6 are in Green.\nAll 1`s Ballet\, Jazz\, Lyrical\, Hip hop\, are in White\nAll 2`s Ballet\, Jazz\, Lyrical\, Hip hop\, are in Gold\nAll 3`s Ballet\, Jazz\, are in Silver. the girls in Siver will stay in silver even if dancing with the 2`s.
URL:http://moonlitedance.com/event/santa-is-coming-tutu-town/
END:VEVENT
BEGIN:VEVENT
DTSTART;VALUE=DATE:20230611
DTEND;VALUE=DATE:20230612
DTSTAMP:20260422T055310
CREATED:20230501T115155Z
LAST-MODIFIED:20230501T115155Z
UID:2316-1686441600-1686527999@moonlitedance.com
SUMMARY:Studio Opens
DESCRIPTION:
URL:http://moonlitedance.com/event/studio-opens/
END:VEVENT
BEGIN:VEVENT
DTSTART;VALUE=DATE:20230501
DTEND;VALUE=DATE:20230502
DTSTAMP:20260422T055310
CREATED:20230429T164931Z
LAST-MODIFIED:20230501T115407Z
UID:1878-1682899200-1682985599@moonlitedance.com
SUMMARY:Moonlite Dance Launch
DESCRIPTION:
URL:http://moonlitedance.com/event/moonlite-dance-launch/
LOCATION:At the Studio\, Pryor
END:VEVENT
END:VCALENDAR